BEGIN:VCALENDAR
VERSION:2.0
PRODID:-//VfB Stolzenau e.V. - ECPv6.15.20//NONSGML v1.0//EN
CALSCALE:GREGORIAN
METHOD:PUBLISH
X-ORIGINAL-URL:https://vfb-stolzenau.de
X-WR-CALDESC:Veranstaltungen für VfB Stolzenau e.V.
REFRESH-INTERVAL;VALUE=DURATION:PT1H
X-Robots-Tag:noindex
X-PUBLISHED-TTL:PT1H
BEGIN:VTIMEZONE
TZID:Europe/Berlin
BEGIN:DAYLIGHT
TZOFFSETFROM:+0100
TZOFFSETTO:+0200
TZNAME:CEST
DTSTART:20210328T010000
END:DAYLIGHT
BEGIN:STANDARD
TZOFFSETFROM:+0200
TZOFFSETTO:+0100
TZNAME:CET
DTSTART:20211031T010000
END:STANDARD
BEGIN:DAYLIGHT
TZOFFSETFROM:+0100
TZOFFSETTO:+0200
TZNAME:CEST
DTSTART:20220327T010000
END:DAYLIGHT
BEGIN:STANDARD
TZOFFSETFROM:+0200
TZOFFSETTO:+0100
TZNAME:CET
DTSTART:20221030T010000
END:STANDARD
BEGIN:DAYLIGHT
TZOFFSETFROM:+0100
TZOFFSETTO:+0200
TZNAME:CEST
DTSTART:20230326T010000
END:DAYLIGHT
BEGIN:STANDARD
TZOFFSETFROM:+0200
TZOFFSETTO:+0100
TZNAME:CET
DTSTART:20231029T010000
END:STANDARD
BEGIN:DAYLIGHT
TZOFFSETFROM:+0100
TZOFFSETTO:+0200
TZNAME:CEST
DTSTART:20240331T010000
END:DAYLIGHT
BEGIN:STANDARD
TZOFFSETFROM:+0200
TZOFFSETTO:+0100
TZNAME:CET
DTSTART:20241027T010000
END:STANDARD
BEGIN:DAYLIGHT
TZOFFSETFROM:+0100
TZOFFSETTO:+0200
TZNAME:CEST
DTSTART:20250330T010000
END:DAYLIGHT
BEGIN:STANDARD
TZOFFSETFROM:+0200
TZOFFSETTO:+0100
TZNAME:CET
DTSTART:20251026T010000
END:STANDARD
BEGIN:DAYLIGHT
TZOFFSETFROM:+0100
TZOFFSETTO:+0200
TZNAME:CEST
DTSTART:20260329T010000
END:DAYLIGHT
BEGIN:STANDARD
TZOFFSETFROM:+0200
TZOFFSETTO:+0100
TZNAME:CET
DTSTART:20261025T010000
END:STANDARD
BEGIN:DAYLIGHT
TZOFFSETFROM:+0100
TZOFFSETTO:+0200
TZNAME:CEST
DTSTART:20270328T010000
END:DAYLIGHT
BEGIN:STANDARD
TZOFFSETFROM:+0200
TZOFFSETTO:+0100
TZNAME:CET
DTSTART:20271031T010000
END:STANDARD
END:VTIMEZONE
BEGIN:VEVENT
DTSTART;TZID=Europe/Berlin:20260219T193000
DTEND;TZID=Europe/Berlin:20260219T213000
DTSTAMP:20260422T174425
CREATED:20251227T222814Z
LAST-MODIFIED:20260112T221237Z
UID:1284-1771529400-1771536600@vfb-stolzenau.de
SUMMARY:Mitgliederversammlung 2026
DESCRIPTION:Downloads (PDF): \n\nEinladung zur Mitgliederversammlung 2026\nProtokoll der Mitgliederversammlung 2025\nAntrag auf Satzungsänderung\nSynopse zur Satzungsänderung (Darstellung der Änderungen in der Satzung)
URL:https://vfb-stolzenau.de/event/mitgliederversammlung-2026/
LOCATION:Hotel zur Post\, Am Markt 10\, Stolzenau\, 31592
CATEGORIES:VfB Stolzenau
END:VEVENT
BEGIN:VEVENT
DTSTART;TZID=Europe/Berlin:20260111T100000
DTEND;TZID=Europe/Berlin:20260111T133000
DTSTAMP:20260422T174425
CREATED:20260101T141816Z
LAST-MODIFIED:20260101T141817Z
UID:1289-1768125600-1768138200@vfb-stolzenau.de
SUMMARY:Neujahrsempfang 2026
DESCRIPTION:Zusammen mit dem Förderverein Freibad Stolzenau e.V. und dem Tennisverein Stolzenau e.V. findet wieder ein gemeinsamer Neujahrsempfang mit Wanderung statt. \nAnmeldung bei Marin Hahn: marion.hahn@vfb-stolzenau.de \n\nEinladung (PDF): Download
URL:https://vfb-stolzenau.de/event/neujahrsempfang-2026/
CATEGORIES:VfB Stolzenau
END:VEVENT
BEGIN:VEVENT
DTSTART;VALUE=DATE:20250628
DTEND;VALUE=DATE:20250629
DTSTAMP:20260422T174425
CREATED:20250620T075743Z
LAST-MODIFIED:20250620T075815Z
UID:1210-1751068800-1751155199@vfb-stolzenau.de
SUMMARY:Harke-Pokal der E-Jugend
DESCRIPTION:Bericht in der Harke vom 18.06.2025
URL:https://vfb-stolzenau.de/event/harke-pokal-der-e-jugend/
END:VEVENT
BEGIN:VEVENT
DTSTART;TZID=Europe/Berlin:20250622T110000
DTEND;TZID=Europe/Berlin:20250622T170000
DTSTAMP:20260422T174425
CREATED:20250613T100305Z
LAST-MODIFIED:20250613T100305Z
UID:1204-1750590000-1750611600@vfb-stolzenau.de
SUMMARY:Schützenfestpokal 2025
DESCRIPTION:Am Sonntag\, 22. Juni\, wird ab 11 Uhr der Schützenfestpokal im Elfmeterschießen der Stolzenauer Korporalschaften ausgeschossen. In dem Jahr\, in dem in Stolzenau kein Schützenfest stattfindet\, richtet der VfB Stolzenau dieses Turnier bei Bratwurst und Kaltgetränken auf der Weserkampfbahn aus
URL:https://vfb-stolzenau.de/event/schuetzenfestpokal-2025/
LOCATION:Weserkampfbahn\, Schlüsselburger Straße 2\, Stolzenau\, 31592
CATEGORIES:VfB Stolzenau
END:VEVENT
BEGIN:VEVENT
DTSTART;TZID=Europe/Berlin:20250306T193000
DTEND;TZID=Europe/Berlin:20250306T213000
DTSTAMP:20260422T174425
CREATED:20241107T200129Z
LAST-MODIFIED:20251227T222449Z
UID:1139-1741289400-1741296600@vfb-stolzenau.de
SUMMARY:Mitgliederversammlung 2025
DESCRIPTION:Download: Protokoll der Mitgliederversammlung 2024
URL:https://vfb-stolzenau.de/event/mitgliederversammlung-2025/
LOCATION:Hotel zur Post\, Am Markt 10\, Stolzenau\, 31592
CATEGORIES:VfB Stolzenau
END:VEVENT
BEGIN:VEVENT
DTSTART;TZID=Europe/Berlin:20250112T100000
DTEND;TZID=Europe/Berlin:20250112T160000
DTSTAMP:20260422T174425
CREATED:20241107T200330Z
LAST-MODIFIED:20241107T200331Z
UID:1141-1736676000-1736697600@vfb-stolzenau.de
SUMMARY:Neujahrsempfang 2025
DESCRIPTION:Der Neujahrsempfang wird zusammen mit dem Tennisverein Stolzenau und dem Förderverein Freibad Stolzenau veranstaltet. Die Details folgen im Dezember 2024.
URL:https://vfb-stolzenau.de/event/neujahrsempfang-2025/
LOCATION:Weserkampfbahn\, Schlüsselburger Straße 2\, Stolzenau\, 31592
CATEGORIES:VfB Stolzenau
END:VEVENT
BEGIN:VEVENT
DTSTART;TZID=Europe/Berlin:20240409T193000
DTEND;TZID=Europe/Berlin:20240409T193000
DTSTAMP:20260422T174425
CREATED:20240129T175242Z
LAST-MODIFIED:20240401T194329Z
UID:1059-1712691000-1712691000@vfb-stolzenau.de
SUMMARY:Mitgliederversammlung 2024
DESCRIPTION:Sehr geehrte Mitglieder\, sehr geehrte Gäste\, \nder Vorstand des VfB Stolzenau e.V. lädt Sie herzlich zur diesjährigen ordentlichen Mitgliederversammlung ein und freut sich auf Ihre Teilnahme. Die Mitgliederversammlung findet statt am \nDienstag\, 9. April 2024 um 19:30 Uhr im Hotel „Zur Post“. \nTagesordnung \n\nEröffnung und Begrüßung\nFeststellung der steimmberechtigten Mitglieder gemäß Teilnehmerliste\nFeststellung und Beschluss der ordnungsmäßigen Einladung zur Mitgliederversammlung\nFeststellung der Beschlussfähigkeit\nBestätigung der Tagesordnung\nBestätigung des Protokolls der Mitgliederversammlung vom 9. März 2023\nEhrungen\nBerichte\n1 – 2. Vorsitzende\n2 – Kassenwart\n3 – Kassenprüfer\nEntlastung des geschäftsführenden Vorstandes\nWahlen\n1 – 1. Vorsitzende/r\n2 – 3. Vorsitzende/r\n3 – Kassenwart/in\n4 – Kassenprüfer/in\nBestätigung der von den Sparten gewählten Spartenleiter/innen\nFestsetzung der Mitgliedsbeiträge\nVorlage und Genehmigung des Haushaltsplanes 2024\nBeschlussfassung über vorliegende Anträge\nVerschiedenes\n\nAnträge (TOP 14) sind spätenstens eine Woche vor der Mitgliederversammlung schriftlich bei der 2. Vorsitzenden einzurichen (§ 15 Abs. 2 der Satzung) bzw. Anträge zur Ergänzung der Tagesordnung (§ 15 Abs. 3 der Satzung). \nMit sportlichen Grüßen \nMarion Hahn\, 2. Vorsitzende\nFabian Witte\, Kassenwart \n  \nProtokoll der letzten Mitgliederversammlung (PDF)
URL:https://vfb-stolzenau.de/event/mitgliederversammlung-2024/
LOCATION:Hotel zur Post\, Am Markt 10\, Stolzenau\, 31592
CATEGORIES:VfB Stolzenau
END:VEVENT
BEGIN:VEVENT
DTSTART;TZID=Europe/Berlin:20240121T100000
DTEND;TZID=Europe/Berlin:20240121T100000
DTSTAMP:20260422T174425
CREATED:20231114T185116Z
LAST-MODIFIED:20231127T184634Z
UID:1029-1705831200-1705831200@vfb-stolzenau.de
SUMMARY:Neujahrsempfang 2024
DESCRIPTION:Wir laden ein zum gemeinsamen Neujahrsempfang 2024\nLiebe Mitglieder des Fördervereins Freibad Stolzenau\,\nliebe Tennisfreundinnen und -freunde im TV Stolzenau\,\nliebe Sportfreundinnen und -freunde im VfB Stolzenau\, \nzum traditionellen Neujahrsempfang laden wir Sie und Ihre Familienangehörigen ganz herzlich ein.\nAm \nSonntag\, 21. Januar 2024 um 10.00 Uhr \ntreffen wir uns am Freibad. Kurz danach werden wir zu einer rd. 1-stündigen „Winterwanderung” aufbrechen\, die dann auf dem Gelände des Tennisvereins endet\, der in diesem Jahr der Ausrichter des Neujahrsempfangs ist. Wer nicht mitwandern möchte oder kann\, kommt zu 11.00 Uhr dazu\, um rechtzeitig zum „offiziellen“ Teil des Neujahrsempfangs anwesend zu sein. \nNach der Rückkehr von der „Winterwanderung” gibt es heißen Glühwein und alkoholfreien Punsch. Nach ein paar Grußworten und der Sportlerehrung wird es Bratwurst im Brötchen geben. \nDamit wir planen können\, bitten wir um Anmeldung bis zum 1. .lanuar 2024: \n\nfür Mitglieder des FV per E-Mail: info@foerderverein-freibad-stolzenau.de oder unter\nTelefonnummer 0173-9443200\nfür Mitglieder des TV per E-Mail: post@tv-stoIzenau.de oder unter Telefonnummer 05761-1046\nfür Mitglieder des VfB bei den Sparten- bzw. Übungsleitern/innen; per E-Mail:\nmarion.hahn@vfb-stolzenau.de oder unter Telefonnummer 0177-4990161.\n\nDa es sich um eine Veranstaltung im Freien handelt\, wird entsprechende Kleidung empfohlen. \nMit sportlichen Grüßen\, im Namen der Vorstände \nElisabeth Wiegmann\, Förderverein Freibad Stolzenau e.V.\nWilfried Falldorf\, Tennisverein Stolzenau e.V.\nMarion Hahn\, VfB Stolzenau e.V. \nEinladung (PDF)
URL:https://vfb-stolzenau.de/event/neujahrsempfang-2024/
LOCATION:Freibad Stolzenau\, Schlüsselburger Straße 1\, Stolzenau\, 31592
CATEGORIES:VfB Stolzenau
END:VEVENT
BEGIN:VEVENT
DTSTART;TZID=Europe/Berlin:20231201T180000
DTEND;TZID=Europe/Berlin:20231201T210000
DTSTAMP:20260422T174425
CREATED:20231127T184046Z
LAST-MODIFIED:20231127T184046Z
UID:1037-1701453600-1701464400@vfb-stolzenau.de
SUMMARY:Judoturnier
DESCRIPTION:Am 01.12. findet ein Judoturnier in der Weserkambahn-Halle statt. Die Veranstaltung startet um 18 Uhr. Es können alle ab 6 Jahren teilnehmen. Es ist eine Anmeldung bei der Spartenleitung erforderlich. \n» Zur Judo-Sparte
URL:https://vfb-stolzenau.de/event/judoturnier/
LOCATION:Weserkampfbahn\, Schlüsselburger Straße 2\, Stolzenau\, 31592
CATEGORIES:VfB Stolzenau
ATTACH;FMTTYPE=image/jpeg:https://vfb-stolzenau.de/wp-content/uploads/2022/11/judo-4454835_1920.jpg
END:VEVENT
BEGIN:VEVENT
DTSTART;VALUE=DATE:20230618
DTEND;VALUE=DATE:20230619
DTSTAMP:20260422T174425
CREATED:20230308T171809Z
LAST-MODIFIED:20230308T171809Z
UID:890-1687046400-1687132799@vfb-stolzenau.de
SUMMARY:Schützenfestpokal "Elfmeterschießen"
DESCRIPTION:
URL:https://vfb-stolzenau.de/event/schuetzenfestpokal-elfmeterschiessen/
LOCATION:Weserkampfbahn\, Schlüsselburger Straße 2\, Stolzenau\, 31592
CATEGORIES:VfB Stolzenau
END:VEVENT
BEGIN:VEVENT
DTSTART;VALUE=DATE:20230513
DTEND;VALUE=DATE:20230515
DTSTAMP:20260422T174425
CREATED:20230308T190628Z
LAST-MODIFIED:20230427T172407Z
UID:896-1683936000-1684108799@vfb-stolzenau.de
SUMMARY:Tischtennis | Kreisrangliste Kinder & Jugend
DESCRIPTION:10 Uhr bis 17 Uhr
URL:https://vfb-stolzenau.de/event/tischtennis-kreisrangliste-kinder-jugend/
LOCATION:Dreifachsporthalle\, Zum Ravensberg 5\, Stolzenau\, 31592\, Deutschland
CATEGORIES:VfB Stolzenau
END:VEVENT
BEGIN:VEVENT
DTSTART;VALUE=DATE:20230506
DTEND;VALUE=DATE:20230507
DTSTAMP:20260422T174425
CREATED:20230308T190400Z
LAST-MODIFIED:20230308T190447Z
UID:892-1683331200-1683417599@vfb-stolzenau.de
SUMMARY:Fußball | Turnier der G-Jugend
DESCRIPTION:
URL:https://vfb-stolzenau.de/event/fussballturnier-der-g-jugend/
LOCATION:Weserkampfbahn\, Schlüsselburger Straße 2\, Stolzenau\, 31592
CATEGORIES:VfB Stolzenau
END:VEVENT
BEGIN:VEVENT
DTSTART;TZID=Europe/Berlin:20230309T193000
DTEND;TZID=Europe/Berlin:20230309T223000
DTSTAMP:20260422T174425
CREATED:20230128T105347Z
LAST-MODIFIED:20230306T203917Z
UID:738-1678390200-1678401000@vfb-stolzenau.de
SUMMARY:Mitgliederversammlung 2023
DESCRIPTION:Einladung zur Mitgliederversammlung am 09.03.2023\nProtokoll zur Mitgliederversammlung vom 22.05.2022\n\n  \nTagesordnung\n1. Eröffnung\n2. Feststellung der stimmberechtigten Mitglieder gemäß Teilnehmerliste\n3. Feststellung und Beschluss der ordnungsmäßigen Einladung zur Mitgliederversammlung\n4. Feststellung der Beschlussfähigkeit\n5. Bestätigung der Tagesordnung\n6. Bestätigung des Protokolls der Mitgliederversammlung vom 22. Mai 2022 (siehe oben)\n7. Ehrungen\n8. Berichte\n8.1 Vorsitzender\n8.2 Kassenwart\n8.3 Kassenprüfer\n9. Entlastung des geschäftsführenden Vorstandes\n10. Wahlen\n10.1 1. Vorsitzende/r (für ein Jahr)\n10.2 2. Vorsitzende/r\n10.3 Schriftführer/in\n10.4 Jugendwart/in\n10.5 Pressewart/in\n10.6 zwei Kassenprüfer/innen\n11. Bestätigung der von den Sparten gewählten Spartenleiter/innen\n12. Festsetzung der Mitgliedsbeiträge\n13. Vorlage und Genehmigung des Haushaltsplanes 2023\n14. Beschlussfassung über vorliegende Anträge\n15. Verschiedenes \nAnträge (TOP 14) sind spätestens eine Woche vor der Mitgliederversammlung schriftlich beim 1. Vorsitzenden einzureichen (§15 Abs. 2 der Satzung) bzw. Anträge zur Ergänzung der Tagesordnung (§15 Abs. 3 der Satzung).
URL:https://vfb-stolzenau.de/event/mitgliederversammlung-2023/
LOCATION:Hotel zur Post\, Am Markt 10\, Stolzenau\, 31592
CATEGORIES:VfB Stolzenau
END:VEVENT
BEGIN:VEVENT
DTSTART;TZID=Europe/Berlin:20230108T100000
DTEND;TZID=Europe/Berlin:20230108T130000
DTSTAMP:20260422T174426
CREATED:20230128T110252Z
LAST-MODIFIED:20230128T110317Z
UID:766-1673172000-1673182800@vfb-stolzenau.de
SUMMARY:Neujahrsempfang 2023
DESCRIPTION:Wir laden ein zum gemeinsamen Neujahrsempfang 2023 \nLiebe Mitglieder des Fördervereins Freibad Stolzenau\,\nliebe Tennisfreundinnen und -freunde im TV Stolzenau\,\nliebe Sportfreundinnen und -freunde im VfB Stolzenau\, \nzum traditionellen Neujahrsemfpang laden wir Sie und Ihre Familienangehörigen ganz herzlich ein. \nAm Sonntag\, 8. Januar 2023\, um 10 Uhr treffen wir uns an der Tennishalle. Kurz danach werden wir zu einer rd. 1-stündigen „Winterwanderung“ aufbrechen\, die dann im Freibad endet. Ausrichter des Neujahresemfpangs ist der Förderverein Freibad Stolzenau e.V.; in diesem Jahr wurde von der SG Mittelweser unter Auflagen die Veranstaltung auf dem gelände des Freibades genehmigt. Wer nicht mitwandern möchte oder kann\, kommt zu 11 Uhr dazu\, um rechtzeitig zum „offiziellen Teil“ des Neujahresempfangs anwesend zu sein. \nNach Rückkehr von der „Winterwanderung“ gibt es heißen Glühwein und alkoholfreien Punsch. Nach ein paar Grußworten und der Sportlerehrung wird es Bratwurst in Brötchen geben. \nDamit wir planen können\, bitten wir um Anmeldung bis zum 1. Januar 2023: \n\nfür Mitglieder des FV per E-Mail: elisabeth.wiegmann@posteo.de oder unter Telefonnummer 0173 94 43 20 0\nfür Mitglieder des TV per E-Mail: post@tv-stolzenau.de oder unter Telefonnummer 0172 51 78 30 6\nfür Mitglieder des VfB bei den Sparten- bzw. Übungsleiterinnnen; per E-Mail: karsten.hahn@vfb-stolzenau.de oder unter Telefonnummer 0176 30 77 60 70.\n\nMit sportlichen Grüßen\, im Namen der Vorstände \nElisabeth Wiegmann\, Wilfried Falldorf\, Karsten Hahn \n\nDa es sich um eine Veranstaltung im Freien handelt\, wird entsprechende Kleidung empfohlen.
URL:https://vfb-stolzenau.de/event/neujahrsempfang-2023/
LOCATION:Freibad Stolzenau\, Schlüsselburger Straße 1\, Stolzenau\, 31592
CATEGORIES:VfB Stolzenau
END:VEVENT
BEGIN:VEVENT
DTSTART;TZID=Europe/Berlin:20221202T190000
DTEND;TZID=Europe/Berlin:20221202T220000
DTSTAMP:20260422T174426
CREATED:20221126T215155Z
LAST-MODIFIED:20221126T215155Z
UID:246-1670007600-1670018400@vfb-stolzenau.de
SUMMARY:Sparten- und Übungsleitertreffen 2022
DESCRIPTION:Liebe Übungs-\, Sparten- und Gruppenleiter*innen sowie -sprecher*innen und Betreuer*innen\, \ndie letzte gemeinsame Zusammenkunft liegt\, auch bedingt durch die Corona-Pandemie\, schon vier Jahre zurück.  Daher möchten wir Euch mal wieder zu einem Gedanken- und Informationsaustausch einladen und uns mit einem kleinen Essen und Getränken für Eure Arbeit für den VfB bedanken. Auch Fragen werden an diesem Abend gerne beantwortet und Anregungen entgegengenommen. \nAm 2. Dezember 2022 um 19.00 Uhr im Aufenthaltsraum der Turnhalle an der Weserkampfbahn möchten wir seitens des Vorstandes mit Euch auch über\n– die evtl. Schließung der Turnhalle Weserkampfbahn\n– Führungszeugnisse\n– Materialbeschaffung\nsprechen. \nGerne könnt Ihr mit Eurer Anmeldung schon Punkte bekanntgeben\, die Ihr gerne diskutieren möchtet. Auch Eure Materialwünsche könnt Ihr schon auf diesem Wege äußern. Dann können wir uns seitens des Vorstandes vorbereiten und vielleicht schon Antworten mitbringen. \nDamit wir organisatorische Vorbereitungen treffen können\, bitten wir um Anoder Abmeldung bis zum 27. November 2022 unter Telefonnummer 0176/30776070 (Karsten Hahn) oder per E-Mail an karsten.hahn@vfb-stolzenau.de. \nEuer Vorstand
URL:https://vfb-stolzenau.de/event/sparten-und-uebungsleitertreffen-2022/
LOCATION:Weserkampfbahn\, Schlüsselburger Straße 2\, Stolzenau\, 31592
CATEGORIES:VfB Stolzenau
END:VEVENT
END:VCALENDAR